BEGIN:VCALENDAR
VERSION:2.0
PRODID:-//Concrete Sustainability Council - ECPv6.15.17.1//NONSGML v1.0//EN
CALSCALE:GREGORIAN
METHOD:PUBLISH
X-WR-CALNAME:Concrete Sustainability Council
X-ORIGINAL-URL:https://csc.eco
X-WR-CALDESC:Events for Concrete Sustainability Council
REFRESH-INTERVAL;VALUE=DURATION:PT1H
X-Robots-Tag:noindex
X-PUBLISHED-TTL:PT1H
BEGIN:VTIMEZONE
TZID:Europe/Zurich
BEGIN:DAYLIGHT
TZOFFSETFROM:+0100
TZOFFSETTO:+0200
TZNAME:CEST
DTSTART:20240331T010000
END:DAYLIGHT
BEGIN:STANDARD
TZOFFSETFROM:+0200
TZOFFSETTO:+0100
TZNAME:CET
DTSTART:20241027T010000
END:STANDARD
BEGIN:DAYLIGHT
TZOFFSETFROM:+0100
TZOFFSETTO:+0200
TZNAME:CEST
DTSTART:20250330T010000
END:DAYLIGHT
BEGIN:STANDARD
TZOFFSETFROM:+0200
TZOFFSETTO:+0100
TZNAME:CET
DTSTART:20251026T010000
END:STANDARD
BEGIN:DAYLIGHT
TZOFFSETFROM:+0100
TZOFFSETTO:+0200
TZNAME:CEST
DTSTART:20260329T010000
END:DAYLIGHT
BEGIN:STANDARD
TZOFFSETFROM:+0200
TZOFFSETTO:+0100
TZNAME:CET
DTSTART:20261025T010000
END:STANDARD
END:VTIMEZONE
BEGIN:VEVENT
DTSTART;TZID=Europe/Zurich:20250220T080000
DTEND;TZID=Europe/Zurich:20250221T180000
DTSTAMP:20260424T000126
CREATED:20250106T093641Z
LAST-MODIFIED:20250106T093641Z
UID:3284-1740038400-1740160800@csc.eco
SUMMARY:Green Cement & Concrete Innovation Europe
DESCRIPTION:Join us at Green Cement & Concrete Innovation Europe 2025 on February 20-21\, where industry leaders and innovators will unite to shape the future of sustainable cement and concrete. Cynthia Imesch\, Coordinator and Sustainability Manager\, will chair the event and participate in an engaging panel discussion on advancing decarbonization and low-carbon innovations in the sector. Don’t miss this opportunity to explore groundbreaking technologies\, share best practices\, and collaborate on solutions that will drive a resilient and sustainable future for the industry. Save the date and be part of this transformative conversation!
URL:https://csc.eco/event/green-cement-concrete-innovation-europe/
END:VEVENT
END:VCALENDAR