BEGIN:VCALENDAR
VERSION:2.0
PRODID:-//Concrete Sustainability Council - ECPv6.15.17.1//NONSGML v1.0//EN
CALSCALE:GREGORIAN
METHOD:PUBLISH
X-WR-CALNAME:Concrete Sustainability Council
X-ORIGINAL-URL:https://csc.eco
X-WR-CALDESC:Events for Concrete Sustainability Council
REFRESH-INTERVAL;VALUE=DURATION:PT1H
X-Robots-Tag:noindex
X-PUBLISHED-TTL:PT1H
BEGIN:VTIMEZONE
TZID:Pacific/Easter
BEGIN:STANDARD
TZOFFSETFROM:-0500
TZOFFSETTO:-0600
TZNAME:-06
DTSTART:20230402T030000
END:STANDARD
BEGIN:DAYLIGHT
TZOFFSETFROM:-0600
TZOFFSETTO:-0500
TZNAME:-05
DTSTART:20230903T040000
END:DAYLIGHT
BEGIN:STANDARD
TZOFFSETFROM:-0500
TZOFFSETTO:-0600
TZNAME:-06
DTSTART:20240407T030000
END:STANDARD
BEGIN:DAYLIGHT
TZOFFSETFROM:-0600
TZOFFSETTO:-0500
TZNAME:-05
DTSTART:20240908T040000
END:DAYLIGHT
BEGIN:STANDARD
TZOFFSETFROM:-0500
TZOFFSETTO:-0600
TZNAME:-06
DTSTART:20250406T030000
END:STANDARD
BEGIN:DAYLIGHT
TZOFFSETFROM:-0600
TZOFFSETTO:-0500
TZNAME:-05
DTSTART:20250907T040000
END:DAYLIGHT
END:VTIMEZONE
BEGIN:VTIMEZONE
TZID:Europe/Zurich
BEGIN:DAYLIGHT
TZOFFSETFROM:+0100
TZOFFSETTO:+0200
TZNAME:CEST
DTSTART:20230326T010000
END:DAYLIGHT
BEGIN:STANDARD
TZOFFSETFROM:+0200
TZOFFSETTO:+0100
TZNAME:CET
DTSTART:20231029T010000
END:STANDARD
BEGIN:DAYLIGHT
TZOFFSETFROM:+0100
TZOFFSETTO:+0200
TZNAME:CEST
DTSTART:20240331T010000
END:DAYLIGHT
BEGIN:STANDARD
TZOFFSETFROM:+0200
TZOFFSETTO:+0100
TZNAME:CET
DTSTART:20241027T010000
END:STANDARD
BEGIN:DAYLIGHT
TZOFFSETFROM:+0100
TZOFFSETTO:+0200
TZNAME:CEST
DTSTART:20250330T010000
END:DAYLIGHT
BEGIN:STANDARD
TZOFFSETFROM:+0200
TZOFFSETTO:+0100
TZNAME:CET
DTSTART:20251026T010000
END:STANDARD
END:VTIMEZONE
BEGIN:VEVENT
DTSTART;TZID=Pacific/Easter:20241106T110000
DTEND;TZID=Pacific/Easter:20241107T170000
DTSTAMP:20260424T073353
CREATED:20241106T100222Z
LAST-MODIFIED:20241106T100222Z
UID:3189-1730890800-1730998800@csc.eco
SUMMARY:Institute for Sustainable Infrastructure 6-7 November 2024
DESCRIPTION:The ISI Annual Conference is the preeminent event for AEC industry professionals committed to fostering sustainable\, equitable\, and resilient civil infrastructure. This virtual event offers insights and actionable strategies to advance sustainable infrastructure to over 1000 participants across two days\, featuring more than 10 hours of presentations and networking opportunities. \nCSC is a proud sponsor of the event\, and our RSO Operator in the U.S\, with Tiffany Reed-Villareal\, Director of Sustainability Standards and Codes at the NRMCA\, National Ready Mix Concrete Association\, will have the opportunity to present CSC. \n  \nThis will be the session where CSC will be presented: \n✳️ SESSION C | Cutting Carbon Before Operation: Addressing Embodied Emissions \nThis session will explore the key materials of cement and concrete and the manufacturing industry’s roadmap for reaching carbon neutrality. Executing that roadmap will involve the entire value chain\, starting at the cement plant and extending through the entire life cycle of the built environment to incorporate the circular economy. The session will also look at the complexities of pursuing Envision Credit “CR1.1 Reduce Net Embodied Carbon” through the lens of the ASCE Infrastructure 2050 commitment and offer a real-world case study demonstrating the embodied carbon analysis process. \n*This session will be offered concurrently with Session D. Participation will satisfy one ELECTIVE hour toward ENV SP credential maintenance. \n  \nYou can register for free here
URL:https://csc.eco/event/institute-for-sustainable-infrastructure-6-7-november-2024/
END:VEVENT
BEGIN:VEVENT
DTSTART;VALUE=DATE:20241121
DTEND;VALUE=DATE:20241123
DTSTAMP:20260424T073353
CREATED:20241106T094119Z
LAST-MODIFIED:20241106T094119Z
UID:3185-1732147200-1732319999@csc.eco
SUMMARY:Klimafestival für die Bauwende 21-22 November Berlin
DESCRIPTION:The Concrete Sustainability Council (CSC) is excited to announce our participation in The Climate Festival\, an event dedicated to advancing sustainable practices in real estate planning\, construction\, and operations. Together\, we are committed to creating valuable\, environmentally responsible living spaces. \nCSC will be represented alongside our Regional System Operator\, BTB\, who will share a stand with InformationsZentrum Beton. As a leading platform supporting German cement and concrete manufacturers\, InformationsZentrum Beton promotes climate neutrality and resource efficiency. Their network empowers construction sector partners to explore new applications for cement-bound materials and adopt innovative solutions for sustainable building. \nThe German cement and concrete industry is vital to sustainable construction and takes its responsibility for climate protection seriously. Committed to achieving climate-neutral cement and concrete by 2045\, the industry has dedicated years to reducing CO₂ emissions and conserving natural resources through cutting-edge technologies. \nFor more information about the Klimafestival please check: https://klimafestival.heinze.de/de/
URL:https://csc.eco/event/klimafestival-fur-die-bauwende-21-22-november-berlin/
LOCATION:Gleisdreieck\, Luckenwalder Str. 4-6 10963 Berlin\, Berlin\, Germany
END:VEVENT
END:VCALENDAR