BEGIN:VCALENDAR
VERSION:2.0
PRODID:-//Concrete Sustainability Council - ECPv6.15.17.1//NONSGML v1.0//EN
CALSCALE:GREGORIAN
METHOD:PUBLISH
X-WR-CALNAME:Concrete Sustainability Council
X-ORIGINAL-URL:https://csc.eco
X-WR-CALDESC:Events for Concrete Sustainability Council
REFRESH-INTERVAL;VALUE=DURATION:PT1H
X-Robots-Tag:noindex
X-PUBLISHED-TTL:PT1H
BEGIN:VTIMEZONE
TZID:Europe/Zurich
BEGIN:DAYLIGHT
TZOFFSETFROM:+0100
TZOFFSETTO:+0200
TZNAME:CEST
DTSTART:20230326T010000
END:DAYLIGHT
BEGIN:STANDARD
TZOFFSETFROM:+0200
TZOFFSETTO:+0100
TZNAME:CET
DTSTART:20231029T010000
END:STANDARD
BEGIN:DAYLIGHT
TZOFFSETFROM:+0100
TZOFFSETTO:+0200
TZNAME:CEST
DTSTART:20240331T010000
END:DAYLIGHT
BEGIN:STANDARD
TZOFFSETFROM:+0200
TZOFFSETTO:+0100
TZNAME:CET
DTSTART:20241027T010000
END:STANDARD
BEGIN:DAYLIGHT
TZOFFSETFROM:+0100
TZOFFSETTO:+0200
TZNAME:CEST
DTSTART:20250330T010000
END:DAYLIGHT
BEGIN:STANDARD
TZOFFSETFROM:+0200
TZOFFSETTO:+0100
TZNAME:CET
DTSTART:20251026T010000
END:STANDARD
END:VTIMEZONE
BEGIN:VEVENT
DTSTART;TZID=Europe/Zurich:20240216T100000
DTEND;TZID=Europe/Zurich:20240216T110000
DTSTAMP:20260425T160945
CREATED:20240207T122925Z
LAST-MODIFIED:20240207T122925Z
UID:2570-1708077600-1708081200@csc.eco
SUMMARY:Online-Seminar: Alles Wichtige zum neuen Technischen Handbuch Version 3.0 des CSC
DESCRIPTION:CSC’s regional system operator in Germany\, Bundesverband der Deutschen Transportbetonindustrie e. V. (BTB) are organizing a web seminar in German in which they will inform about the changes introduced by version 3.0 of CSC’s Technical Manual launched in January 2024. \nThe Webinar will take place on Friday\, 16.02.2024 as a “Zoom meeting” at 10:00 am. (Duration approx. one hour.). If you are interested\, please register at the following link: \nhttps://us06web.zoom.us/meeting/register/tZwvf-CvpzsjE9yXC9bmiyvVyAiekEnTv4-e#/registration
URL:https://csc.eco/event/online-seminar-alles-wichtige-zum-neuen-technischen-handbuch-version-3-0-des-csc/
ATTACH;FMTTYPE=image/jpeg:https://csc.eco/wp-content/uploads/2022/04/BTB.jpg
END:VEVENT
BEGIN:VEVENT
DTSTART;TZID=Europe/Zurich:20240219T160000
DTEND;TZID=Europe/Zurich:20240219T170000
DTSTAMP:20260425T160945
CREATED:20240206T143126Z
LAST-MODIFIED:20240206T143126Z
UID:2561-1708358400-1708362000@csc.eco
SUMMARY:Webinar in Spanish: Responsible sourcing of concrete\, certification progresses get to know the new version 3.0
DESCRIPTION:  \nThe Concrete Sustainability Council (CSC) certification has been growing worldwide\, with more than 931 certified plants in 21 different countries\, which is being recognized by different construction certification systems worldwide. The CSC launched the new update of its technical manual. What are the changes in version 3.0 compared to version 2.1? \n  \n  \n  \nwebinar-fihp-csc (2)
URL:https://csc.eco/event/webinar-in-spanish-responsible-sourcing-of-concrete-certification-progresses-get-to-know-the-new-version-3-0/
ATTACH;FMTTYPE=image/png:https://csc.eco/wp-content/uploads/2024/02/Webinar-19-Febero-2024.png
END:VEVENT
END:VCALENDAR