BEGIN:VCALENDAR
VERSION:2.0
PRODID:-//Concrete Sustainability Council - ECPv6.15.17.1//NONSGML v1.0//EN
CALSCALE:GREGORIAN
METHOD:PUBLISH
X-WR-CALNAME:Concrete Sustainability Council
X-ORIGINAL-URL:https://csc.eco
X-WR-CALDESC:Events for Concrete Sustainability Council
REFRESH-INTERVAL;VALUE=DURATION:PT1H
X-Robots-Tag:noindex
X-PUBLISHED-TTL:PT1H
BEGIN:VTIMEZONE
TZID:Europe/Zurich
BEGIN:DAYLIGHT
TZOFFSETFROM:+0100
TZOFFSETTO:+0200
TZNAME:CEST
DTSTART:20210328T010000
END:DAYLIGHT
BEGIN:STANDARD
TZOFFSETFROM:+0200
TZOFFSETTO:+0100
TZNAME:CET
DTSTART:20211031T010000
END:STANDARD
BEGIN:DAYLIGHT
TZOFFSETFROM:+0100
TZOFFSETTO:+0200
TZNAME:CEST
DTSTART:20220327T010000
END:DAYLIGHT
BEGIN:STANDARD
TZOFFSETFROM:+0200
TZOFFSETTO:+0100
TZNAME:CET
DTSTART:20221030T010000
END:STANDARD
BEGIN:DAYLIGHT
TZOFFSETFROM:+0100
TZOFFSETTO:+0200
TZNAME:CEST
DTSTART:20230326T010000
END:DAYLIGHT
BEGIN:STANDARD
TZOFFSETFROM:+0200
TZOFFSETTO:+0100
TZNAME:CET
DTSTART:20231029T010000
END:STANDARD
END:VTIMEZONE
BEGIN:VTIMEZONE
TZID:America/Costa_Rica
BEGIN:STANDARD
TZOFFSETFROM:-0600
TZOFFSETTO:-0600
TZNAME:CST
DTSTART:20210101T000000
END:STANDARD
END:VTIMEZONE
BEGIN:VEVENT
DTSTART;VALUE=DATE:20220608
DTEND;VALUE=DATE:20220611
DTSTAMP:20260424T140529
CREATED:20220421T194648Z
LAST-MODIFIED:20220519T155236Z
UID:682-1654646400-1654905599@csc.eco
SUMMARY:Construverde 2022
DESCRIPTION:https://construverde.co/\nColombia \n  \nThe CSC will be present to the  XIII edition of Construverde in Colombia through it’s Regional System Operator in Latin America\, FIHP\, the Ibero-American Federation of Ready-Mix Concrete.
URL:https://csc.eco/event/construverde-2022/
END:VEVENT
BEGIN:VEVENT
DTSTART;VALUE=DATE:20220608
DTEND;VALUE=DATE:20220611
DTSTAMP:20260424T140529
CREATED:20220421T194648Z
LAST-MODIFIED:20220421T194648Z
UID:2088-1654646400-1654905599@csc.eco
SUMMARY:Construverde 2022
DESCRIPTION:https://construverde.co/\nColombia \n  \nThe CSC will be present to the  XIII edition of Construverde in Colombia through it’s Regional System Operator in Latin America\, FIHP\, the Ibero-American Federation of Ready-Mix Concrete.
URL:https://csc.eco/event/construverde-2022-2/
END:VEVENT
BEGIN:VEVENT
DTSTART;TZID=America/Costa_Rica:20220601T080000
DTEND;TZID=America/Costa_Rica:20220603T170000
DTSTAMP:20260424T140529
CREATED:20220519T154726Z
LAST-MODIFIED:20220519T154726Z
UID:889-1654070400-1654275600@csc.eco
SUMMARY:CICS Congreso Internacional de Ciudades Sostenibles 2022
DESCRIPTION:Our Regional System Operator in Latin America\,  FIHP- the Ibero-American Federation of Ready-Mix Concrete will attend  the 2022 CICS in Costa Rica and present the CSC certification.
URL:https://csc.eco/event/cics-congreso-internacional-de-ciudades-sostenibles-2022/
LOCATION:Congreso Internacional des ciudades sostenibles 2022\, Costa Rica
END:VEVENT
BEGIN:VEVENT
DTSTART;TZID=America/Costa_Rica:20220601T080000
DTEND;TZID=America/Costa_Rica:20220603T170000
DTSTAMP:20260424T140529
CREATED:20220519T154726Z
LAST-MODIFIED:20220519T154726Z
UID:2092-1654070400-1654275600@csc.eco
SUMMARY:CICS Congreso Internacional de Ciudades Sostenibles 2022
DESCRIPTION:Our Regional System Operator in Latin America\,  FIHP- the Ibero-American Federation of Ready-Mix Concrete will attend  the 2022 CICS in Costa Rica and present the CSC certification.
URL:https://csc.eco/event/cics-congreso-internacional-de-ciudades-sostenibles-2022-2/
LOCATION:Congreso Internacional des ciudades sostenibles 2022\, Costa Rica
END:VEVENT
END:VCALENDAR