BEGIN:VCALENDAR
VERSION:2.0
PRODID:-//Concrete Sustainability Council - ECPv6.15.17.1//NONSGML v1.0//EN
CALSCALE:GREGORIAN
METHOD:PUBLISH
X-ORIGINAL-URL:https://csc.eco
X-WR-CALDESC:Events for Concrete Sustainability Council
REFRESH-INTERVAL;VALUE=DURATION:PT1H
X-Robots-Tag:noindex
X-PUBLISHED-TTL:PT1H
BEGIN:VTIMEZONE
TZID:Asia/Dubai
BEGIN:STANDARD
TZOFFSETFROM:+0400
TZOFFSETTO:+0400
TZNAME:+04
DTSTART:20220101T000000
END:STANDARD
END:VTIMEZONE
BEGIN:VEVENT
DTSTART;TZID=Asia/Dubai:20231204T163000
DTEND;TZID=Asia/Dubai:20231204T170000
DTSTAMP:20260426T054631
CREATED:20231130T150516Z
LAST-MODIFIED:20231130T150516Z
UID:2169-1701707400-1701709200@csc.eco
SUMMARY:Concrete Sustainability Council at the BIG 5 Event in Dubai
DESCRIPTION:CSC’s Regional System Operator in the Middle East\, Grey Matters\, will be present with Rabih Fakih at the BIG 5 Global construction industry event. \nHe will be speaking on the 4th December from 16:30- 17:00 at Concrete Talks in Al Ain J& K \nBig 5 Global\, the largest and most-influential construction industry event in the Middle East\, Africa and South Asia (MEASA) is set to take place at Dubai World Trade Centre from 4 – 7 December 2023. With registrations open for participants who wish to attend the annual gathering of the global construction industry\, the event aims to host 2\,200+ exhibitors and 68\,000+ attendees from more than 150 countries for four days of valuable business networking\, fruitful partnerships and knowledge exchange. \nBig 5 Global unites the whole industry bringing together contractors\, developers\, architects\, engineers\, consultants\, disruptors\, innovators and suppliers to ESG advisors and international and local policymakers\, empowering the development of the construction industry. \n 
URL:https://csc.eco/event/concrete-sustainability-council-at-the-big-5-event-in-dubai/
ATTACH;FMTTYPE=image/png:https://csc.eco/wp-content/uploads/2023/11/big5-global-event-info-img.png
END:VEVENT
END:VCALENDAR